BEGIN:VCALENDAR
VERSION:2.0
PRODID:-//Deisterkiez e.V. - ECPv6.15.14//NONSGML v1.0//EN
CALSCALE:GREGORIAN
METHOD:PUBLISH
X-WR-CALNAME:Deisterkiez e.V.
X-ORIGINAL-URL:https://deisterkiez.de
X-WR-CALDESC:Veranstaltungen für Deisterkiez e.V.
REFRESH-INTERVAL;VALUE=DURATION:PT1H
X-Robots-Tag:noindex
X-PUBLISHED-TTL:PT1H
BEGIN:VTIMEZONE
TZID:UTC
BEGIN:STANDARD
TZOFFSETFROM:+0000
TZOFFSETTO:+0000
TZNAME:UTC
DTSTART:20250101T000000
END:STANDARD
END:VTIMEZONE
BEGIN:VEVENT
DTSTART;TZID=UTC:20260429T170000
DTEND;TZID=UTC:20260429T180000
DTSTAMP:20260426T021710
CREATED:20260126T111718Z
LAST-MODIFIED:20260126T111718Z
UID:1318-1777482000-1777485600@deisterkiez.de
SUMMARY:Lust auf Linden-Süd (LALS II)
DESCRIPTION:Stände und Verortung
URL:https://deisterkiez.de/veranstaltung/lust-auf-linden-sued-lals-ii
LOCATION:Deisterkiez e.V.\, Deisterstraße 66\, Hannover\, 30449
END:VEVENT
BEGIN:VEVENT
DTSTART;TZID=UTC:20260602T170000
DTEND;TZID=UTC:20260602T180000
DTSTAMP:20260426T021710
CREATED:20260126T111823Z
LAST-MODIFIED:20260126T111823Z
UID:1320-1780419600-1780423200@deisterkiez.de
SUMMARY:Lust auf Linden-Süd (LALS III)
DESCRIPTION:Hygienetipps „Gastro“
URL:https://deisterkiez.de/veranstaltung/lust-auf-linden-sued-lals-iii
LOCATION:Deisterkiez e.V.\, Deisterstraße 66\, Hannover\, 30449
END:VEVENT
BEGIN:VEVENT
DTSTART;TZID=UTC:20260613T140000
DTEND;TZID=UTC:20260613T220000
DTSTAMP:20260426T021710
CREATED:20260126T112257Z
LAST-MODIFIED:20260126T112310Z
UID:1326-1781359200-1781388000@deisterkiez.de
SUMMARY:Stadtteilfest „Lust auf Linden-Süd“
DESCRIPTION:auf der autofreien Deisterstraße\,\nwww.lust-auf-linden-sued.de
URL:https://deisterkiez.de/veranstaltung/stadtteilfest-lust-auf-linden-sued
LOCATION:Deisterstrasse\, Deistersstrasse\, Hannover\, 30449\, Deutschland
END:VEVENT
BEGIN:VEVENT
DTSTART;TZID=UTC:20260624T170000
DTEND;TZID=UTC:20260624T180000
DTSTAMP:20260426T021710
CREATED:20260126T111927Z
LAST-MODIFIED:20260126T111927Z
UID:1322-1782320400-1782324000@deisterkiez.de
SUMMARY:Lust auf Linden-Süd (LALS IV)
DESCRIPTION:Rückblick und Feedback
URL:https://deisterkiez.de/veranstaltung/lust-auf-linden-sued-lals-iv
LOCATION:Deisterkiez e.V.\, Deisterstraße 66\, Hannover\, 30449
END:VEVENT
BEGIN:VEVENT
DTSTART;TZID=UTC:20261107T110000
DTEND;TZID=UTC:20261107T130000
DTSTAMP:20260426T021710
CREATED:20260126T112039Z
LAST-MODIFIED:20260126T112039Z
UID:1324-1794049200-1794056400@deisterkiez.de
SUMMARY:GreenDOWN Deisterkiez
DESCRIPTION:Bepflanz-Aktion\, Treffpunkt: Deisterstr. 66
URL:https://deisterkiez.de/veranstaltung/greendown-deisterkiez
LOCATION:Deisterkiez e.V.\, Deisterstraße 66\, Hannover\, 30449
END:VEVENT
END:VCALENDAR